BEGIN:VCALENDAR
VERSION:2.0
PRODID:SchoolNow
CALSCALE:GREGORIAN
BEGIN:VEVENT
UID:e814278c-169e-11ee-8722-0a1119413869
DTSTAMP:20231025T165712Z
SUMMARY:Winter Break - D97 Schools Closed
URL;VALUE=URI:https://www.op97.org/mann/calendar/4452919/winter-break-d97-s
 chools-offices-closed
DTSTART;VALUE=DATE:20231222
DTEND;VALUE=DATE:20240106
END:VEVENT
END:VCALENDAR
