BEGIN:VCALENDAR
VERSION:2.0
PRODID:SchoolNow
CALSCALE:GREGORIAN
BEGIN:VEVENT
UID:b563ad6e-16a1-11ee-84f6-0a1119413869
DTSTAMP:20230629T172348Z
SUMMARY:Presidents' Day - D97 Schools/Offices Closed
URL;VALUE=URI:https://www.op97.org/mann/calendar/4452953/presidents-day-d97
 -schools-offices-closed
DTSTART;VALUE=DATE:20240219
DTEND;VALUE=DATE:20240220
END:VEVENT
END:VCALENDAR
