BEGIN:VCALENDAR
VERSION:2.0
PRODID:SchoolNow
CALSCALE:GREGORIAN
BEGIN:VEVENT
UID:909419aa-16a2-11ee-ae47-0a1119413869
DTSTAMP:20230629T172956Z
SUMMARY:Institute Day - No School for Students
URL;VALUE=URI:https://www.op97.org/mann/calendar/4453069/institute-day-no-s
 chool-for-students
DTSTART;VALUE=DATE:20240319
DTEND;VALUE=DATE:20240320
END:VEVENT
END:VCALENDAR
