BEGIN:VCALENDAR
VERSION:2.0
PRODID:SchoolNow
CALSCALE:GREGORIAN
BEGIN:VEVENT
UID:1d7398d6-16a4-11ee-9eaf-0a1119413869
DTSTAMP:20230629T174101Z
SUMMARY:Memorial Day - D97 Schools/Offices Closed
URL;VALUE=URI:https://www.op97.org/mann/calendar/4453093/memorial-day-d97-s
 chools-offices-closed
DTSTART;VALUE=DATE:20240527
DTEND;VALUE=DATE:20240528
END:VEVENT
END:VCALENDAR
