BEGIN:VCALENDAR
VERSION:2.0
PRODID:SchoolNow
CALSCALE:GREGORIAN
BEGIN:VEVENT
UID:98704706-5ca8-11ee-b44e-0a58a9feac02
DTSTAMP:20230926T200927Z
SUMMARY:Family/Teacher Conferences - Half Day (A.M. Only)
URL;VALUE=URI:https://www.op97.org/mann/calendar/4797605/family-teacher-con
 ferences-half-day-a-m-only
DTSTART;VALUE=DATE:20231027
DTEND;VALUE=DATE:20231028
END:VEVENT
END:VCALENDAR
