BEGIN:VCALENDAR
VERSION:2.0
PRODID:SchoolNow
CALSCALE:GREGORIAN
BEGIN:VEVENT
UID:27dc6a12-5cab-11ee-8db1-0a58a9feac02
DTSTAMP:20230926T202747Z
SUMMARY:Juneteenth - D97 Schools/Offices Closed
URL;VALUE=URI:https://www.op97.org/mann/calendar/4797647/juneteenth-d97-sch
 ools-offices-closed
DTSTART;VALUE=DATE:20240619
DTEND;VALUE=DATE:20240620
END:VEVENT
END:VCALENDAR
