BEGIN:VCALENDAR
VERSION:2.0
PRODID:SchoolNow
CALSCALE:GREGORIAN
BEGIN:VEVENT
UID:641d08f0-2a7e-11ef-ac5e-0affeac3563f
DTSTAMP:20240614T184620Z
SUMMARY:Institute Day - No School for Students
URL;VALUE=URI:https://www.op97.org/mann/calendar/6121507/institute-day-no-s
 chool-for-students
DTSTART;VALUE=DATE:20240820
DTEND;VALUE=DATE:20240821
END:VEVENT
END:VCALENDAR
