BEGIN:VCALENDAR
VERSION:2.0
PRODID:SchoolNow
CALSCALE:GREGORIAN
BEGIN:VEVENT
UID:b5dab6e4-2a81-11ef-930d-025e35894f9d
DTSTAMP:20240703T193632Z
SUMMARY:Family/Teacher Conferences - No School for Students
URL;VALUE=URI:https://www.op97.org/mann/calendar/6122267/family-teacher-con
 ferences-no-school-for-students
DTSTART;VALUE=DATE:20241025
DTEND;VALUE=DATE:20241026
END:VEVENT
END:VCALENDAR
