BEGIN:VCALENDAR
VERSION:2.0
PRODID:SchoolNow
CALSCALE:GREGORIAN
BEGIN:VEVENT
UID:a60f53d6-3969-11ef-a7be-0affddf12909
DTSTAMP:20240703T191928Z
SUMMARY:Institute Day - No School for Students
URL;VALUE=URI:https://www.op97.org/mann/calendar/6207935/institute-day-no-s
 chool-for-students
DTSTART;VALUE=DATE:20250106
DTEND;VALUE=DATE:20250107
END:VEVENT
END:VCALENDAR
