BEGIN:VCALENDAR
VERSION:2.0
PRODID:SchoolNow
CALSCALE:GREGORIAN
BEGIN:VEVENT
UID:9eb00d80-ed7a-11f0-b01a-02095609f2c5
DTSTAMP:20260109T164535Z
SUMMARY:The Sound of Freedom: A Celebration of African American Music Assem
 bly
URL;VALUE=URI:https://www.op97.org/mann/calendar/8833308/the-sound-of-freed
 om-a-celebration-of-african-american-music-assembly
DTSTART:20260115T190000Z
DTEND:20260115T210000Z
END:VEVENT
END:VCALENDAR
