BEGIN:VCALENDAR
VERSION:2.0
PRODID:SchoolNow
CALSCALE:GREGORIAN
BEGIN:VEVENT
UID:cb54e20c-ed7a-11f0-bee0-0a58a9feac02
DTSTAMP:20260109T164650Z
SUMMARY:1st Grade Field Trip: Adler Planetarium
URL;VALUE=URI:https://www.op97.org/mann/calendar/8833309/1st-grade-field-tr
 ip-adler-planetarium
DTSTART:20260120T160000Z
DTEND:20260120T203000Z
END:VEVENT
END:VCALENDAR
