BEGIN:VCALENDAR
VERSION:2.0
PRODID:SchoolNow
CALSCALE:GREGORIAN
BEGIN:VEVENT
UID:a0e9b790-f621-11f0-93da-0a58a9feac02
DTSTAMP:20260120T170114Z
SUMMARY:5th Grade Field Trip: The Field Museum
URL;VALUE=URI:https://www.op97.org/mann/calendar/8838138/5th-grade-field-tr
 ip-the-field-museum
DTSTART:20260217T150000Z
DTEND:20260217T203000Z
END:VEVENT
END:VCALENDAR
