BEGIN:VCALENDAR
VERSION:2.0
PRODID:SchoolNow
CALSCALE:GREGORIAN
BEGIN:VEVENT
UID:edd65ae2-f7a0-11f0-ae76-0affd83426db
DTSTAMP:20260122T144627Z
SUMMARY:2nd Grade Field Trip: The Peggy Notebaert Museum
URL;VALUE=URI:https://www.op97.org/mann/calendar/8839265/2nd-grade-field-tr
 ip-the-peggy-notebart-museum
DTSTART;VALUE=DATE:20260324
DTEND;VALUE=DATE:20260325
END:VEVENT
END:VCALENDAR
