BEGIN:VCALENDAR
VERSION:2.0
PRODID:SchoolNow
CALSCALE:GREGORIAN
BEGIN:VEVENT
UID:3d154bf2-1710-11f1-aaf0-0261e2fd6d85
DTSTAMP:20260303T145011Z
SUMMARY:5th Grade Field Trip: Starved Rock
URL;VALUE=URI:https://www.op97.org/mann/calendar/8887074/5th-grade-field-tr
 ip-starved-rock
DTSTART:20260526T130000Z
DTEND:20260526T200000Z
END:VEVENT
END:VCALENDAR
