BEGIN:VCALENDAR
VERSION:2.0
PRODID:SchoolNow
CALSCALE:GREGORIAN
BEGIN:VEVENT
UID:6d97e10e-1710-11f1-9a93-0a58a9feac02
DTSTAMP:20260303T145115Z
SUMMARY:5th Grade Field Trip: Navy Pier
URL;VALUE=URI:https://www.op97.org/mann/calendar/8887082/5th-grade-field-tr
 ip-navy-pier
DTSTART:20260601T130000Z
DTEND:20260601T200000Z
END:VEVENT
END:VCALENDAR
