BEGIN:VCALENDAR
VERSION:2.0
PRODID:SchoolNow
CALSCALE:GREGORIAN
BEGIN:VEVENT
UID:43dd1342-1711-11f1-a73b-0a58a9feac02
DTSTAMP:20260303T145714Z
SUMMARY:First Grade Field Trip: Lindberg Park
URL;VALUE=URI:https://www.op97.org/mann/calendar/8887083/first-grade-field-
 trip-lindberg-park
DTSTART:20260601T130000Z
DTEND:20260601T200000Z
END:VEVENT
END:VCALENDAR
