BEGIN:VCALENDAR
VERSION:2.0
PRODID:SchoolNow
CALSCALE:GREGORIAN
BEGIN:VEVENT
UID:e2c67fac-1711-11f1-911f-0a58a9feac02
DTSTAMP:20260303T150141Z
SUMMARY:First Grade Field Trip: Morton Arboretum
URL;VALUE=URI:https://www.op97.org/mann/calendar/8887084/first-grade-field-
 trip-morton-arboretum
DTSTART:20260522T130000Z
DTEND:20260522T200000Z
END:VEVENT
END:VCALENDAR
