BEGIN:VCALENDAR
VERSION:2.0
PRODID:SchoolNow
CALSCALE:GREGORIAN
BEGIN:VEVENT
UID:3c86a384-18af-11f1-b1d7-0e2a2a433083
DTSTAMP:20260305T162033Z
SUMMARY:Kindergarten Field Trip: Brookfield Zoo
URL;VALUE=URI:https://www.op97.org/mann/calendar/8893252/kindergarten-field
 -trip-brookfield-zoo
DTSTART:20260515T130000Z
DTEND:20260515T200000Z
END:VEVENT
END:VCALENDAR
