BEGIN:VCALENDAR
VERSION:2.0
PRODID:SchoolNow
CALSCALE:GREGORIAN
BEGIN:VEVENT
UID:07b2385c-336d-11f1-b4e6-0a58a9feac02
DTSTAMP:20260408T170439Z
SUMMARY:2nd Grade Field Trip: The Museum of Science and Industry
URL;VALUE=URI:https://www.op97.org/mann/calendar/8979902/2nd-grade-field-tr
 ip-the-museum-of-science-and-industry
DTSTART:20260527T130000Z
DTEND:20260527T200000Z
END:VEVENT
END:VCALENDAR
