BEGIN:VCALENDAR
VERSION:2.0
PRODID:SchoolNow
CALSCALE:GREGORIAN
BEGIN:VEVENT
UID:dd1c9498-7c79-11f0-87c9-0a58a9feac02
DTSTAMP:20251216T214534Z
SUMMARY:First Day of School
URL;VALUE=URI://www.op97.org/~aseymour@op97.org/choir/calendar/8519211/firs
 t-day-of-school
DTSTART;VALUE=DATE:20250820
DTEND;VALUE=DATE:20250821
END:VEVENT
END:VCALENDAR
