BEGIN:VCALENDAR
VERSION:2.0
PRODID:SchoolNow
CALSCALE:GREGORIAN
BEGIN:VEVENT
UID:dd1c990c-7c79-11f0-bdd1-0a58a9feac02
DTSTAMP:20251216T214534Z
SUMMARY:Morning Choir Auditions
URL;VALUE=URI://www.op97.org/~aseymour@op97.org/choir/calendar/8519213/morn
 ing-choir-auditions
DTSTART:20250829T123000Z
DTEND:20250829T135000Z
END:VEVENT
END:VCALENDAR
