BEGIN:VCALENDAR
VERSION:2.0
PRODID:SchoolNow
CALSCALE:GREGORIAN
BEGIN:VEVENT
UID:dd1c9a24-7c79-11f0-9b4b-0a58a9feac02
DTSTAMP:20251216T214534Z
SUMMARY:No School - Labor Day
URL;VALUE=URI://www.op97.org/~aseymour@op97.org/choir/calendar/8519214/no-s
 chool-labor-day
DTSTART;VALUE=DATE:20250901
DTEND;VALUE=DATE:20250902
END:VEVENT
END:VCALENDAR
