BEGIN:VCALENDAR
VERSION:2.0
PRODID:SchoolNow
CALSCALE:GREGORIAN
BEGIN:VEVENT
UID:dd1c9b28-7c79-11f0-8b02-0a58a9feac02
DTSTAMP:20251216T214534Z
SUMMARY:Morning Choir Audition Results Posted
URL;VALUE=URI://www.op97.org/~aseymour@op97.org/choir/calendar/8519215/morn
 ing-choir-audition-results-posted
DTSTART:20250905T203000Z
DTEND:20250905T213000Z
END:VEVENT
END:VCALENDAR
