BEGIN:VCALENDAR
VERSION:2.0
PRODID:SchoolNow
CALSCALE:GREGORIAN
BEGIN:VEVENT
UID:dd1c9c18-7c79-11f0-b9be-0a58a9feac02
DTSTAMP:20251216T214534Z
SUMMARY:No School - Rosh Hashana
URL;VALUE=URI://www.op97.org/~aseymour@op97.org/choir/calendar/8519216/no-s
 chool-rosh-hashana
DTSTART;VALUE=DATE:20250923
DTEND;VALUE=DATE:20250924
END:VEVENT
END:VCALENDAR
