BEGIN:VCALENDAR
VERSION:2.0
PRODID:SchoolNow
CALSCALE:GREGORIAN
BEGIN:VEVENT
UID:dd1c9d08-7c79-11f0-a9ff-0a58a9feac02
DTSTAMP:20251216T214534Z
SUMMARY:No School - Yom Kippur
URL;VALUE=URI://www.op97.org/~aseymour@op97.org/choir/calendar/8519217/no-s
 chool-yom-kippur
DTSTART;VALUE=DATE:20251002
DTEND;VALUE=DATE:20251003
END:VEVENT
END:VCALENDAR
