BEGIN:VCALENDAR
VERSION:2.0
PRODID:SchoolNow
CALSCALE:GREGORIAN
BEGIN:VEVENT
UID:dd1c9eca-7c79-11f0-b212-0a58a9feac02
DTSTAMP:20251216T214534Z
SUMMARY:No School - Indigenous People's Day
URL;VALUE=URI://www.op97.org/~aseymour@op97.org/choir/calendar/8519219/no-s
 chool-indigenous-peoples-day
DTSTART;VALUE=DATE:20251013
DTEND;VALUE=DATE:20251014
END:VEVENT
END:VCALENDAR
