BEGIN:VCALENDAR
VERSION:2.0
PRODID:SchoolNow
CALSCALE:GREGORIAN
BEGIN:VEVENT
UID:dd1c9fb0-7c79-11f0-a093-0a58a9feac02
DTSTAMP:20251216T214534Z
SUMMARY:No School - P/T Conferences
URL;VALUE=URI://www.op97.org/~aseymour@op97.org/choir/calendar/8519220/no-s
 chool-p-t-conferences
DTSTART;VALUE=DATE:20251024
DTEND;VALUE=DATE:20251025
END:VEVENT
END:VCALENDAR
