BEGIN:VCALENDAR
VERSION:2.0
PRODID:SchoolNow
CALSCALE:GREGORIAN
BEGIN:VEVENT
UID:dd1ca096-7c79-11f0-9c57-0a58a9feac02
DTSTAMP:20251216T214534Z
SUMMARY:Thanksgiving Break
URL;VALUE=URI://www.op97.org/~aseymour@op97.org/choir/calendar/8519221/than
 ksgiving-break
DTSTART;VALUE=DATE:20251126
DTEND;VALUE=DATE:20251201
END:VEVENT
END:VCALENDAR
