BEGIN:VCALENDAR
VERSION:2.0
PRODID:SchoolNow
CALSCALE:GREGORIAN
BEGIN:VEVENT
UID:dd1ca172-7c79-11f0-8d8a-0a58a9feac02
DTSTAMP:20251216T214534Z
SUMMARY:Jukebox EXTRA Rehearsal
URL;VALUE=URI://www.op97.org/~aseymour@op97.org/choir/calendar/8519222/juke
 box-extra-rehearsal
DTSTART:20251203T135500Z
DTEND:20251203T145000Z
END:VEVENT
END:VCALENDAR
