BEGIN:VCALENDAR
VERSION:2.0
PRODID:SchoolNow
CALSCALE:GREGORIAN
BEGIN:VEVENT
UID:dd1ca24e-7c79-11f0-abb4-0a58a9feac02
DTSTAMP:20251216T214534Z
SUMMARY:Fall Choral Showcase
URL;VALUE=URI://www.op97.org/~aseymour@op97.org/choir/calendar/8519223/fall
 -choral-showcase
DTSTART:20251016T000000Z
DTEND:20251016T010000Z
END:VEVENT
END:VCALENDAR
