BEGIN:VCALENDAR
VERSION:2.0
PRODID:SchoolNow
CALSCALE:GREGORIAN
BEGIN:VEVENT
UID:dd1ca334-7c79-11f0-ad39-0a58a9feac02
DTSTAMP:20251216T214534Z
SUMMARY:Dress Rehearsal (Daytime Choirs) Period 7
URL;VALUE=URI://www.op97.org/~aseymour@op97.org/choir/calendar/8519224/dres
 s-rehearsal-daytime-choirs-period-7
DTSTART:20251014T194000Z
DTEND:20251014T203000Z
END:VEVENT
END:VCALENDAR
