BEGIN:VCALENDAR
VERSION:2.0
PRODID:SchoolNow
CALSCALE:GREGORIAN
BEGIN:VEVENT
UID:dd1ca410-7c79-11f0-b4e1-0a58a9feac02
DTSTAMP:20251216T214534Z
SUMMARY:ILMEA Nominations Due
URL;VALUE=URI://www.op97.org/~aseymour@op97.org/choir/calendar/8519225/ilme
 a-nominations-due
DTSTART;VALUE=DATE:20250917
DTEND;VALUE=DATE:20250918
END:VEVENT
END:VCALENDAR
