BEGIN:VCALENDAR
VERSION:2.0
PRODID:SchoolNow
CALSCALE:GREGORIAN
BEGIN:VEVENT
UID:dd1ca4ec-7c79-11f0-8a15-0a58a9feac02
DTSTAMP:20251216T214534Z
SUMMARY:Winter Morning Choir + Jazz Band Concert
URL;VALUE=URI://www.op97.org/~aseymour@op97.org/choir/calendar/8519226/wint
 er-morning-choir-jazz-band-concert
DTSTART:20251217T010000Z
DTEND:20251217T023000Z
END:VEVENT
END:VCALENDAR
