BEGIN:VCALENDAR
VERSION:2.0
PRODID:SchoolNow
CALSCALE:GREGORIAN
BEGIN:VEVENT
UID:dd1ca780-7c79-11f0-b335-0a58a9feac02
DTSTAMP:20251216T214534Z
SUMMARY:Do Re Mi's Rehearsal
URL;VALUE=URI://www.op97.org/~aseymour@op97.org/choir/calendar/8519228/do-r
 e-mis-rehearsal
DTSTART:20250908T125500Z
DTEND:20250908T135000Z
END:VEVENT
END:VCALENDAR
