BEGIN:VCALENDAR
VERSION:2.0
PRODID:SchoolNow
CALSCALE:GREGORIAN
BEGIN:VEVENT
UID:dd1cbc7a-7c79-11f0-9369-0a58a9feac02
DTSTAMP:20251216T214534Z
SUMMARY:Do Re Mi's Rehearsal
URL;VALUE=URI://www.op97.org/~aseymour@op97.org/choir/calendar/8519252/do-r
 e-mis-rehearsal
DTSTART:20260223T135500Z
DTEND:20260223T145000Z
END:VEVENT
END:VCALENDAR
