BEGIN:VCALENDAR
VERSION:2.0
PRODID:SchoolNow
CALSCALE:GREGORIAN
BEGIN:VEVENT
UID:dd1cbfd6-7c79-11f0-9239-0a58a9feac02
DTSTAMP:20251216T214534Z
SUMMARY:Do Re Mi's Rehearsal
URL;VALUE=URI://www.op97.org/~aseymour@op97.org/choir/calendar/8519256/do-r
 e-mis-rehearsal
DTSTART:20260323T125500Z
DTEND:20260323T135000Z
END:VEVENT
END:VCALENDAR
