BEGIN:VCALENDAR
VERSION:2.0
PRODID:SchoolNow
CALSCALE:GREGORIAN
BEGIN:VEVENT
UID:dd1cc710-7c79-11f0-ba9a-0a58a9feac02
DTSTAMP:20251216T214534Z
SUMMARY:CAMBIATA! Rehearsal
URL;VALUE=URI://www.op97.org/~aseymour@op97.org/choir/calendar/8519264/camb
 iata-rehearsal
DTSTART:20250918T125500Z
DTEND:20250918T135000Z
END:VEVENT
END:VCALENDAR
