BEGIN:VCALENDAR
VERSION:2.0
PRODID:SchoolNow
CALSCALE:GREGORIAN
BEGIN:VEVENT
UID:dd1cc7ec-7c79-11f0-a8ce-0a58a9feac02
DTSTAMP:20251216T214534Z
SUMMARY:ILMEA Rehearsal
URL;VALUE=URI://www.op97.org/~aseymour@op97.org/choir/calendar/8519265/ilme
 a-rehearsal
DTSTART:20250925T125500Z
DTEND:20250925T135000Z
END:VEVENT
END:VCALENDAR
