BEGIN:VCALENDAR
VERSION:2.0
PRODID:SchoolNow
CALSCALE:GREGORIAN
BEGIN:VEVENT
UID:dd1ccd32-7c79-11f0-9c74-0a58a9feac02
DTSTAMP:20251216T214534Z
SUMMARY:CAMBIATA! Rehearsal
URL;VALUE=URI://www.op97.org/~aseymour@op97.org/choir/calendar/8519271/camb
 iata-rehearsal
DTSTART:20251106T135500Z
DTEND:20251106T145000Z
END:VEVENT
END:VCALENDAR
