BEGIN:VCALENDAR
VERSION:2.0
PRODID:SchoolNow
CALSCALE:GREGORIAN
BEGIN:VEVENT
UID:dd1ccfbc-7c79-11f0-b346-0a58a9feac02
DTSTAMP:20251216T214534Z
SUMMARY:Jukebox Rehearsal
URL;VALUE=URI://www.op97.org/~aseymour@op97.org/choir/calendar/8519274/juke
 box-rehearsal
DTSTART:20251125T135500Z
DTEND:20251125T145000Z
END:VEVENT
END:VCALENDAR
