BEGIN:VCALENDAR
VERSION:2.0
PRODID:SchoolNow
CALSCALE:GREGORIAN
BEGIN:VEVENT
UID:dd5c3166-7c79-11f0-8e96-0a58a9feac02
DTSTAMP:20251216T214534Z
SUMMARY:CAMBIATA! Rehearsal
URL;VALUE=URI://www.op97.org/~aseymour@op97.org/choir/calendar/8519287/camb
 iata-rehearsal
DTSTART:20260226T135500Z
DTEND:20260226T145000Z
END:VEVENT
END:VCALENDAR
