BEGIN:VCALENDAR
VERSION:2.0
PRODID:SchoolNow
CALSCALE:GREGORIAN
BEGIN:VEVENT
UID:dd5c3f3a-7c79-11f0-a668-0a58a9feac02
DTSTAMP:20251216T214534Z
SUMMARY:CAMBIATA! Rehearsal
URL;VALUE=URI://www.op97.org/~aseymour@op97.org/choir/calendar/8519297/camb
 iata-rehearsal
DTSTART:20260507T125500Z
DTEND:20260507T135000Z
END:VEVENT
END:VCALENDAR
