BEGIN:VCALENDAR
VERSION:2.0
PRODID:SchoolNow
CALSCALE:GREGORIAN
BEGIN:VEVENT
UID:dd5c439a-7c79-11f0-9c4c-0a58a9feac02
DTSTAMP:20251216T214534Z
SUMMARY:Jukebox Rehearsal
URL;VALUE=URI://www.op97.org/~aseymour@op97.org/choir/calendar/8519302/juke
 box-rehearsal
DTSTART:20251010T125500Z
DTEND:20251010T135000Z
END:VEVENT
END:VCALENDAR
