BEGIN:VCALENDAR
VERSION:2.0
PRODID:SchoolNow
CALSCALE:GREGORIAN
BEGIN:VEVENT
UID:dd5c4476-7c79-11f0-a77b-0a58a9feac02
DTSTAMP:20251216T214534Z
SUMMARY:Jukebox Rehearsal
URL;VALUE=URI://www.op97.org/~aseymour@op97.org/choir/calendar/8519303/juke
 box-rehearsal
DTSTART:20251017T125500Z
DTEND:20251017T135000Z
END:VEVENT
END:VCALENDAR
