BEGIN:VCALENDAR
VERSION:2.0
PRODID:SchoolNow
CALSCALE:GREGORIAN
BEGIN:VEVENT
UID:dd5c507e-7c79-11f0-9f78-0a58a9feac02
DTSTAMP:20251216T214534Z
SUMMARY:Jukebox Full Group?
URL;VALUE=URI://www.op97.org/~aseymour@op97.org/choir/calendar/8519316/juke
 box-full-group
DTSTART:20260123T135500Z
DTEND:20260123T145000Z
END:VEVENT
END:VCALENDAR
