BEGIN:VCALENDAR
VERSION:2.0
PRODID:SchoolNow
CALSCALE:GREGORIAN
BEGIN:VEVENT
UID:dd5c5312-7c79-11f0-9440-0a58a9feac02
DTSTAMP:20251216T214534Z
SUMMARY:Jukebox Rehearsal
URL;VALUE=URI://www.op97.org/~aseymour@op97.org/choir/calendar/8519319/juke
 box-rehearsal
DTSTART:20260211T135500Z
DTEND:20260211T145000Z
END:VEVENT
END:VCALENDAR
