BEGIN:VCALENDAR
VERSION:2.0
PRODID:SchoolNow
CALSCALE:GREGORIAN
BEGIN:VEVENT
UID:dd5c5d4e-7c79-11f0-a4d9-0a58a9feac02
DTSTAMP:20251216T214534Z
SUMMARY:Combined Morning Choirs in Choir Room 7:45am - 8:50am
URL;VALUE=URI://www.op97.org/~aseymour@op97.org/choir/calendar/8519331/comb
 ined-morning-choirs-in-choir-room-7-45am-8-50am
DTSTART:20260508T125500Z
DTEND:20260508T135000Z
END:VEVENT
END:VCALENDAR
