BEGIN:VCALENDAR
VERSION:2.0
PRODID:SchoolNow
CALSCALE:GREGORIAN
BEGIN:VEVENT
UID:d6635410-7cac-11f0-8ad1-021e79079853
DTSTAMP:20251216T214534Z
SUMMARY:Winter Break
URL;VALUE=URI://www.op97.org/~aseymour@op97.org/choir/calendar/8520352/wint
 er-break
DTSTART;VALUE=DATE:20251220
DTEND;VALUE=DATE:20260105
END:VEVENT
END:VCALENDAR
