BEGIN:VCALENDAR
VERSION:2.0
PRODID:SchoolNow
CALSCALE:GREGORIAN
BEGIN:VEVENT
UID:d66379a4-7cac-11f0-b125-021e79079853
DTSTAMP:20251216T214534Z
SUMMARY:No School - MLK
URL;VALUE=URI://www.op97.org/~aseymour@op97.org/choir/calendar/8520354/no-s
 chool-mlk
DTSTART;VALUE=DATE:20260119
DTEND;VALUE=DATE:20260120
END:VEVENT
END:VCALENDAR
