BEGIN:VCALENDAR
VERSION:2.0
PRODID:SchoolNow
CALSCALE:GREGORIAN
BEGIN:VEVENT
UID:d6637c1a-7cac-11f0-9547-021e79079853
DTSTAMP:20251216T214534Z
SUMMARY:Jukebox Soprano/Alto
URL;VALUE=URI://www.op97.org/~aseymour@op97.org/choir/calendar/8520356/juke
 box-soprano-alto
DTSTART:20260112T135500Z
DTEND:20260112T145000Z
END:VEVENT
END:VCALENDAR
